BEGIN:VCALENDAR
PRODID:-//eluceo/ical//2.0/EN
VERSION:2.0
CALSCALE:GREGORIAN
BEGIN:VEVENT
UID:9591f5c0347cf43e11b518975c65d0dc
DTSTAMP:20260424T085217Z
SUMMARY:Sanierung Grillstelle Lindenplatz in Selzach
DESCRIPTION:
URL:https://rc-grenchen.ch/bs/agenda/show/162060
DTSTART;TZID=Europe/Zurich:20230916T090000
DTEND;TZID=Europe/Zurich:20230916T143000
LOCATION:Grillstelle Lindenplatz in Selzach
CATEGORIES:Rotary
END:VEVENT
BEGIN:VTIMEZONE
TZID:Europe/Zurich
BEGIN:DAYLIGHT
DTSTART:20230916T090000
TZNAME:CEST
TZOFFSETTO:+0200
TZOFFSETFROM:+0200
END:DAYLIGHT
END:VTIMEZONE
END:VCALENDAR
