BEGIN:VCALENDAR
PRODID:-//eluceo/ical//2.0/EN
VERSION:2.0
CALSCALE:GREGORIAN
BEGIN:VEVENT
UID:dcae7a4b4db580d032336305198c20cc
DTSTAMP:20260423T153444Z
SUMMARY:Hands-on-Projekt
DESCRIPTION:Bergbauer Hands-On Projekt\nFamilie Abbühl\, Stigimaad\, Weiss
 enburg
URL:https://rc-grenchen.ch/de/agenda/show/76805
DTSTART;TZID=Europe/Zurich:20170908T090000
DTEND;TZID=Europe/Zurich:20170910T170000
LOCATION:Simmenthal
CATEGORIES:Rotary
END:VEVENT
BEGIN:VTIMEZONE
TZID:Europe/Zurich
BEGIN:DAYLIGHT
DTSTART:20170908T090000
TZNAME:CEST
TZOFFSETTO:+0200
TZOFFSETFROM:+0200
END:DAYLIGHT
END:VTIMEZONE
END:VCALENDAR
