BEGIN:VCALENDAR
PRODID:-//eluceo/ical//2.0/EN
VERSION:2.0
CALSCALE:GREGORIAN
BEGIN:VEVENT
UID:e696c13d3c4e15647998d2cec6e85f27
DTSTAMP:20260423T134852Z
SUMMARY:Trauerlunch für Heini Vollenweider
DESCRIPTION:
URL:https://rc-grenchen.ch/de/agenda/show/78167
DTSTART;TZID=Europe/Zurich:20170830T121500
DTEND;TZID=Europe/Zurich:20170830T133000
LOCATION:Restaurant Parktheater
CATEGORIES:Rotary
END:VEVENT
BEGIN:VTIMEZONE
TZID:Europe/Zurich
BEGIN:DAYLIGHT
DTSTART:20170830T121500
TZNAME:CEST
TZOFFSETTO:+0200
TZOFFSETFROM:+0200
END:DAYLIGHT
END:VTIMEZONE
END:VCALENDAR
