BEGIN:VCALENDAR
PRODID:-//eluceo/ical//2.0/EN
VERSION:2.0
CALSCALE:GREGORIAN
BEGIN:VEVENT
UID:1cae8e8b6adab520c51bf7786c5a41ca
DTSTAMP:20260423T104203Z
SUMMARY:Klassifikationsvortrag Rotarier Thomas Jordi
DESCRIPTION:Webseite: http://www.parktheater.ch/\nReferenten/innen: Rotarie
 r Thomas Jordi
URL:https://rc-grenchen.ch/de/agenda/show/78299
DTSTART;TZID=Europe/Zurich:20170913T121500
DTEND;TZID=Europe/Zurich:20170913T140000
LOCATION:Restaurant Parktheater
CATEGORIES:Rotary
END:VEVENT
BEGIN:VTIMEZONE
TZID:Europe/Zurich
BEGIN:DAYLIGHT
DTSTART:20170913T121500
TZNAME:CEST
TZOFFSETTO:+0200
TZOFFSETFROM:+0200
END:DAYLIGHT
END:VTIMEZONE
END:VCALENDAR
