BEGIN:VCALENDAR
PRODID:-//eluceo/ical//2.0/EN
VERSION:2.0
CALSCALE:GREGORIAN
BEGIN:VEVENT
UID:0b359e99a0980beadd0670f0bf21a113
DTSTAMP:20260423T142503Z
SUMMARY:Wandergruppe: Bucheggberger Wanderung
DESCRIPTION:Siehe Details im beigefügten Programm in PDF
URL:https://rc-grenchen.ch/de/agenda/show/79426
DTSTART;TZID=Europe/Zurich:20170921T083000
DTEND;TZID=Europe/Zurich:20170921T151500
LOCATION:Start: Bocciahalle Grenchen\, Fahrt zum Schloss Buchegg. Ab dort W
 anderung.
CATEGORIES:Rotary
END:VEVENT
BEGIN:VTIMEZONE
TZID:Europe/Zurich
BEGIN:DAYLIGHT
DTSTART:20170921T083000
TZNAME:CEST
TZOFFSETTO:+0200
TZOFFSETFROM:+0200
END:DAYLIGHT
END:VTIMEZONE
END:VCALENDAR
