BEGIN:VCALENDAR
PRODID:-//eluceo/ical//2.0/EN
VERSION:2.0
CALSCALE:GREGORIAN
BEGIN:VEVENT
UID:aeb17e92ed56cee32de895a36f21b184
DTSTAMP:20260424T135824Z
SUMMARY:Gestion du programme - principes de base
DESCRIPTION:Website: https://teams.microsoft.com/meet/379608297581922?p=jET
 NVq4hFvf4YbXQds\nSpeaker(s): Estelle Ducept - Laurent Gaube - Joachim Dumo
 n - Franck-Olivier DenayerAcadémie PolarisWebinaire en langue française
URL:https://polaris-academy.org/en/agenda/show/211642
DTSTART;TZID=Europe/Zurich:20260520T183000
DTEND;TZID=Europe/Zurich:20260520T193000
LOCATION:En ligne
CATEGORIES:Rotary
END:VEVENT
BEGIN:VTIMEZONE
TZID:Europe/Zurich
BEGIN:DAYLIGHT
DTSTART:20260520T183000
TZNAME:CEST
TZOFFSETTO:+0200
TZOFFSETFROM:+0200
END:DAYLIGHT
END:VTIMEZONE
END:VCALENDAR
