BEGIN:VCALENDAR
PRODID:-//eluceo/ical//2.0/EN
VERSION:2.0
CALSCALE:GREGORIAN
BEGIN:VEVENT
UID:5fa2223343a590536df7062b61752469
DTSTAMP:20260424T173805Z
SUMMARY:Vortragslunch: Grenchner Musikwoche 2018
DESCRIPTION:Am Vortragslunch nehmen Freunde vom Partner Club Heidelberg Sch
 loss teil.\nWebsite: http://www.parktheater.ch/\nSpeaker(s): Aldo Bigolin 
 und Werner Obrecht (Geschäftsleiter Obrasso Concerts)
URL:https://rc-grenchen.ch/en/agenda/show/74821
DTSTART;TZID=Europe/Zurich:20170816T121500
DTEND;TZID=Europe/Zurich:20170816T140000
LOCATION:Restaurant Parktheater
CATEGORIES:Rotary
END:VEVENT
BEGIN:VTIMEZONE
TZID:Europe/Zurich
BEGIN:DAYLIGHT
DTSTART:20170816T121500
TZNAME:CEST
TZOFFSETTO:+0200
TZOFFSETFROM:+0200
END:DAYLIGHT
END:VTIMEZONE
END:VCALENDAR
