BEGIN:VCALENDAR
PRODID:-//eluceo/ical//2.0/EN
VERSION:2.0
CALSCALE:GREGORIAN
BEGIN:VEVENT
UID:33d89d5304f8a39d4690ac7aab9f84e0
DTSTAMP:20260421T171015Z
SUMMARY:Partneranlass: Tauchen in der Aare - abgesagt!
DESCRIPTION:Orador(es): Leider müssen wir den Anlass wegen Corona absagen.
URL:https://rc-grenchen.ch/es/agenda/show/117319
DTSTART;TZID=Europe/Zurich:20201028T180000
DTEND;TZID=Europe/Zurich:20201028T220000
LOCATION:Restaurant Fischerhaus Grenchen
CATEGORIES:Rotary
END:VEVENT
BEGIN:VTIMEZONE
TZID:Europe/Zurich
BEGIN:STANDARD
DTSTART:20201028T180000
TZNAME:CET
TZOFFSETTO:+0100
TZOFFSETFROM:+0100
END:STANDARD
END:VTIMEZONE
END:VCALENDAR
