BEGIN:VCALENDAR
PRODID:-//eluceo/ical//2.0/EN
VERSION:2.0
CALSCALE:GREGORIAN
BEGIN:VEVENT
UID:1f47e0764a93d7660754df09a2f78029
DTSTAMP:20260421T204444Z
SUMMARY:Distrikt Konferenz\, 8. und 9. Juni 2018
DESCRIPTION:Infos unter Distrikt 1980
URL:https://rc-grenchen.ch/es/agenda/show/79454
DTSTART;TZID=Europe/Zurich:20180608T000000
DTEND;TZID=Europe/Zurich:20180609T000000
LOCATION:Basel
CATEGORIES:Rotary
END:VEVENT
BEGIN:VTIMEZONE
TZID:Europe/Zurich
BEGIN:DAYLIGHT
DTSTART:20180608T000000
TZNAME:CEST
TZOFFSETTO:+0200
TZOFFSETFROM:+0200
END:DAYLIGHT
END:VTIMEZONE
END:VCALENDAR
