BEGIN:VCALENDAR
PRODID:-//eluceo/ical//2.0/EN
VERSION:2.0
CALSCALE:GREGORIAN
BEGIN:VEVENT
UID:cb4ab1f5a0236b27e4e737564d0f62ef
DTSTAMP:20260421T190615Z
SUMMARY:Vortrag: PARTNERANLASS «Kryptoassets – Eine Revolution? Und was 
 ist es?»
DESCRIPTION:Vortrag: PARTNERANLASS «Kryptoassets – Eine Revolution? Und 
 was ist es?»\n\nAnschliessend gemeinsames Essen im Parktehater (Anmeldung
  separat)\nOrador(es): Prof. Dr. Ankenbrand\, HS Luzern
URL:https://rc-grenchen.ch/es/agenda/show/91439
DTSTART;TZID=Europe/Zurich:20181024T180000
DTEND;TZID=Europe/Zurich:20181024T190000
LOCATION:Restaurant Parktheater im Jurasaal
CATEGORIES:Rotary
END:VEVENT
BEGIN:VTIMEZONE
TZID:Europe/Zurich
BEGIN:DAYLIGHT
DTSTART:20181024T180000
TZNAME:CEST
TZOFFSETTO:+0200
TZOFFSETFROM:+0200
END:DAYLIGHT
END:VTIMEZONE
END:VCALENDAR
