BEGIN:VCALENDAR
PRODID:-//eluceo/ical//2.0/EN
VERSION:2.0
CALSCALE:GREGORIAN
BEGIN:VEVENT
UID:dc921a1072182adc72c73a66279056d2
DTSTAMP:20260425T124813Z
SUMMARY:Jassabend mit Racletteplausch 
DESCRIPTION:
URL:https://rc-grenchen.ch/fr/agenda/show/108503
DTSTART;TZID=Europe/Zurich:20200129T180000
DTEND;TZID=Europe/Zurich:20200129T220000
LOCATION:Glutzhütte\, Grenchen
CATEGORIES:Rotary
END:VEVENT
BEGIN:VTIMEZONE
TZID:Europe/Zurich
BEGIN:STANDARD
DTSTART:20200129T180000
TZNAME:CET
TZOFFSETTO:+0100
TZOFFSETFROM:+0100
END:STANDARD
END:VTIMEZONE
END:VCALENDAR
