BEGIN:VCALENDAR
PRODID:-//eluceo/ical//2.0/EN
VERSION:2.0
CALSCALE:GREGORIAN
BEGIN:VEVENT
UID:7bfe22b703dc84654f7894eb1836b965
DTSTAMP:20260424T090612Z
SUMMARY:Partneranlass - Besichtigung der Firma Aeschlimann\, Décolletages 
 in Lüsslingen\, mit anschliessendem  Nachtessen im Rest. Enge in Biberist
  
DESCRIPTION:Anschliessend Nachtessen\nSite internet: http://www.ae-decollet
 age.ch/
URL:https://rc-grenchen.ch/fr/agenda/show/78302
DTSTART;TZID=Europe/Zurich:20170927T180000
DTEND;TZID=Europe/Zurich:20170927T220000
LOCATION:Aeschlimann Décolletages Lüsslingen
CATEGORIES:Rotary
END:VEVENT
BEGIN:VTIMEZONE
TZID:Europe/Zurich
BEGIN:DAYLIGHT
DTSTART:20170927T180000
TZNAME:CEST
TZOFFSETTO:+0200
TZOFFSETFROM:+0200
END:DAYLIGHT
END:VTIMEZONE
END:VCALENDAR
