BEGIN:VCALENDAR
PRODID:-//eluceo/ical//2.0/EN
VERSION:2.0
CALSCALE:GREGORIAN
BEGIN:VEVENT
UID:b135c1b25823d8039c99cc556bf3cea4
DTSTAMP:20260420T132535Z
SUMMARY:Freundschaftslunch
DESCRIPTION:Site internet: http://www.grenchnerhof.ch/
URL:https://rc-grenchen.ch/fr/agenda/show/79032
DTSTART;TZID=Europe/Zurich:20171004T121500
DTEND;TZID=Europe/Zurich:20171004T133000
LOCATION:Restaurant Grenchner Hof
CATEGORIES:Rotary
END:VEVENT
BEGIN:VTIMEZONE
TZID:Europe/Zurich
BEGIN:DAYLIGHT
DTSTART:20171004T121500
TZNAME:CEST
TZOFFSETTO:+0200
TZOFFSETFROM:+0200
END:DAYLIGHT
END:VTIMEZONE
END:VCALENDAR
