BEGIN:VCALENDAR
PRODID:-//eluceo/ical//2.0/EN
VERSION:2.0
CALSCALE:GREGORIAN
BEGIN:VEVENT
UID:d4c461dd143389aa23f249b152bb52bd
DTSTAMP:20260422T110059Z
SUMMARY:Breakfast
DESCRIPTION:
URL:https://rc-grenchen.ch/fr/agenda/show/79033
DTSTART;TZID=Europe/Zurich:20171005T070000
DTEND;TZID=Europe/Zurich:20171005T090000
LOCATION:Restaurant Enge\, Biberist
CATEGORIES:Rotary
END:VEVENT
BEGIN:VTIMEZONE
TZID:Europe/Zurich
BEGIN:DAYLIGHT
DTSTART:20171005T070000
TZNAME:CEST
TZOFFSETTO:+0200
TZOFFSETFROM:+0200
END:DAYLIGHT
END:VTIMEZONE
END:VCALENDAR
