BEGIN:VCALENDAR
PRODID:-//eluceo/ical//2.0/EN
VERSION:2.0
CALSCALE:GREGORIAN
BEGIN:VEVENT
UID:457da2e2503e33a84f7754891de9cae0
DTSTAMP:20260419T134047Z
SUMMARY:Breakfast
DESCRIPTION:Website: https://www.gasthofenge.ch/
URL:https://rc-grenchen.ch/nl/agenda/show/80275
DTSTART;TZID=Europe/Zurich:20171102T070000
DTEND;TZID=Europe/Zurich:20171102T090000
LOCATION:Restaurant Enge
CATEGORIES:Rotary
END:VEVENT
BEGIN:VTIMEZONE
TZID:Europe/Zurich
BEGIN:STANDARD
DTSTART:20171102T070000
TZNAME:CET
TZOFFSETTO:+0100
TZOFFSETFROM:+0100
END:STANDARD
END:VTIMEZONE
END:VCALENDAR
