BEGIN:VCALENDAR
PRODID:-//eluceo/ical//2.0/EN
VERSION:2.0
CALSCALE:GREGORIAN
BEGIN:VEVENT
UID:f91749e386121f46046dad82b521adfa
DTSTAMP:20260421T122045Z
SUMMARY:Vortrags-Lunch
DESCRIPTION:Frau Sandra Neumann\, Start up Peripal\nMedizinaltechnologie\, 
 Entwicklung eines Gerätes\, das die Dialyse zu Hause sicherer macht.\nSpr
 ekers: Frau Sandra Neumann
URL:https://rc-grenchen.ch/nl/agenda/show/81416
DTSTART;TZID=Europe/Zurich:20180110T121500
DTEND;TZID=Europe/Zurich:20180110T140000
LOCATION:Restaurant Parktheater
CATEGORIES:Rotary
END:VEVENT
BEGIN:VTIMEZONE
TZID:Europe/Zurich
BEGIN:STANDARD
DTSTART:20180110T121500
TZNAME:CET
TZOFFSETTO:+0100
TZOFFSETFROM:+0100
END:STANDARD
END:VTIMEZONE
END:VCALENDAR
