BEGIN:VCALENDAR
PRODID:-//eluceo/ical//2.0/EN
VERSION:2.0
CALSCALE:GREGORIAN
BEGIN:VEVENT
UID:eab842cfa747f3883a4bd53b3aeffa1c
DTSTAMP:20260423T104407Z
SUMMARY:Wandergruppe
DESCRIPTION:Anmeldung zum Mittagessen bitte bis Mittwoch\, 18.00 Uhr bei Ro
 tarier Fritz Suter:\n\n032 652 35 13\nSprekers: Letzte Wanderung in diesem
  Jahr: Treffpunkt Bocciahalle\, Rundwanderung in der Gegend Rüttenen - Ma
 rtinsflue. Mittagessen im Restaurant «Chutz».\nEinzelheiten: Siehe Anhan
 g.\nLeitung Rotarier Fritz Sut
URL:https://rc-grenchen.ch/nl/agenda/show/81440
DTSTART;TZID=Europe/Zurich:20171214T093000
DTEND;TZID=Europe/Zurich:20171214T160000
LOCATION:Treffpunkt Bocciahalle\, Mittagessen Langendorf\, Restaurant «Chu
 tz»
CATEGORIES:Rotary
END:VEVENT
BEGIN:VTIMEZONE
TZID:Europe/Zurich
BEGIN:STANDARD
DTSTART:20171214T093000
TZNAME:CET
TZOFFSETTO:+0100
TZOFFSETFROM:+0100
END:STANDARD
END:VTIMEZONE
END:VCALENDAR
